BEGIN:VCALENDAR
VERSION:2.0
PRODID:-//So Care - ECPv6.8.3//NONSGML v1.0//EN
CALSCALE:GREGORIAN
METHOD:PUBLISH
X-ORIGINAL-URL:https://so-care.fr
X-WR-CALDESC:Évènements pour So Care
REFRESH-INTERVAL;VALUE=DURATION:PT1H
X-Robots-Tag:noindex
X-PUBLISHED-TTL:PT1H
BEGIN:VTIMEZONE
TZID:UTC
BEGIN:STANDARD
TZOFFSETFROM:+0000
TZOFFSETTO:+0000
TZNAME:UTC
DTSTART:20210101T000000
END:STANDARD
END:VTIMEZONE
BEGIN:VEVENT
DTSTART;TZID=UTC:20221007T140000
DTEND;TZID=UTC:20221008T193000
DTSTAMP:20260420T132408
CREATED:20220127T141215Z
LAST-MODIFIED:20220127T141215Z
UID:2223-1665151200-1665257400@so-care.fr
SUMMARY:Congrès Symbioveto-Vetmanche 2022
DESCRIPTION:Le congrès annuel se déroulera les 7 et 8 octobre 2022. \n 
URL:https://so-care.fr/event/congres-symbioveto-vetmanche-2022/
LOCATION:Pôle Agglo 21\, 58 Rue Lycette Darsonval\, Saint-Lô\, 50000\, France
CATEGORIES:Congrès
ATTACH;FMTTYPE=image/png:https://so-care.fr/wp-content/uploads/2022/01/Congres-annuel-2022.png
END:VEVENT
BEGIN:VEVENT
DTSTART;VALUE=DATE:20220602
DTEND;VALUE=DATE:20220603
DTSTAMP:20260420T132408
CREATED:20220330T091920Z
LAST-MODIFIED:20220330T092013Z
UID:2366-1654128000-1654214399@so-care.fr
SUMMARY:Formation sur l'hygiène de la traite
DESCRIPTION:Formation réalisée avec Novactiv.
URL:https://so-care.fr/event/formation-sur-lhygiene-de-la-traite/
CATEGORIES:Formation
ATTACH;FMTTYPE=image/png:https://so-care.fr/wp-content/uploads/2022/03/Formation-hygiene-traite.png
END:VEVENT
BEGIN:VEVENT
DTSTART;TZID=UTC:20220428T183000
DTEND;TZID=UTC:20220428T223000
DTSTAMP:20260420T132408
CREATED:20220330T090758Z
LAST-MODIFIED:20220330T090758Z
UID:2360-1651170600-1651185000@so-care.fr
SUMMARY:Soirée cas clinique rurale
DESCRIPTION:Cette soirée cas clinique sera l’occasion d’abordée le thème de La vache couchée : de la théorie à la pratique\, de l’université à  la ferme !  \nLa formation sera assurée par le Dr Suzanne CLERGUE ; DMV IPSAV résidence ACVIM-LA.
URL:https://so-care.fr/event/soiree-cas-clinique-rurale/
LOCATION:Saint-Lô\, France
CATEGORIES:Formation
ATTACH;FMTTYPE=image/png:https://so-care.fr/wp-content/uploads/2022/03/Soiree-cas-clinique-rurale.png
END:VEVENT
BEGIN:VEVENT
DTSTART;TZID=UTC:20220428T083000
DTEND;TZID=UTC:20220428T173000
DTSTAMP:20260420T132408
CREATED:20220330T085305Z
LAST-MODIFIED:20220330T092407Z
UID:2350-1651134600-1651167000@so-care.fr
SUMMARY:Journée nutrition canine
DESCRIPTION:Cette journée dédiée à la nutrition sera animée par Dr Maud Clavel\, diplômée du CES de diététique canine et féline. Elle s’articule en deux parties : \nDe 8h30 à 12h30 – Pour les ASV \n– La nutrition et moi : quels sont les rôles de l’ASV dans la nutrition des patients? \n– Savoir organiser le suivi des prescriptions nutritionnelles \n– Jeux de rôles : devenir incollables face aux objections des clients \nDe 14h00 à 17h30 – Pour les vétérinaires \n– La place de la prescription nutritionnelle lors de la consultation \n– Gastroentérologie : quand l’alimentation fait partie intégrante du traitement \n– Gastroentérologie : « vous êtes sûr que mon chien est trop gros ? » \n– Quand penser à une ration ménagère ?
URL:https://so-care.fr/event/journee-nutrition-canine/
LOCATION:Carentan\, France
CATEGORIES:Formation
ATTACH;FMTTYPE=image/png:https://so-care.fr/wp-content/uploads/2022/03/Journee-nutrition-canine.png
END:VEVENT
BEGIN:VEVENT
DTSTART;TZID=UTC:20220405T140000
DTEND;TZID=UTC:20220405T173000
DTSTAMP:20260420T132408
CREATED:20220127T135527Z
LAST-MODIFIED:20220127T135527Z
UID:2218-1649167200-1649179800@so-care.fr
SUMMARY:COPIL Rurale
DESCRIPTION:Le prochain comité de pilotage pour la Rurale se déroulera : le 5 avril 2022\, de 14h00 à 17h30.
URL:https://so-care.fr/event/copil-rurale-3/
CATEGORIES:COPIL
ATTACH;FMTTYPE=image/png:https://so-care.fr/wp-content/uploads/2021/06/Copil_Rurale.png
END:VEVENT
BEGIN:VEVENT
DTSTART;TZID=UTC:20220303T183000
DTEND;TZID=UTC:20220303T213000
DTSTAMP:20260420T132408
CREATED:20220207T195134Z
LAST-MODIFIED:20220207T195235Z
UID:2231-1646332200-1646343000@so-care.fr
SUMMARY:Soirée cas clinique équine Symbioveto-Vetmanche
DESCRIPTION:Nous avons le plaisir de vous convier à une soirée cas clinique le 3 mars prochain à 18h30 sur le thème :\n« Prise en charge du poulain nouveau-né : nos préconisations orientées terrain » \nCette soirée\, en partenariat avec le laboratoire MSD\, sera animée par le docteur Valérie PICANDET\, DVM\, spécialiste en médecine interne équine au Centre Hospitalier Vétérinaire Equin de Livet.\nRendez-vous au restaurant l’Auberge Normande – 11 C Boulevard de Verdun – 50500 Carentan. \nPour vous inscrire\, cliquez ici : https://forms.gle/zbXtwsNJhqboRSx2A\nInscription obligatoire avant le 25 février.
URL:https://so-care.fr/event/soiree-cas-clinique-equine-symbioveto-vetmanche/
LOCATION:Restaurant l’Auberge Normande\, 11 C Boulevard de Verdun\, Carentan\, 50500\, France
CATEGORIES:Formation
ATTACH;FMTTYPE=image/png:https://so-care.fr/wp-content/uploads/2022/02/soiree-cas-clinique-MSD.png
END:VEVENT
BEGIN:VEVENT
DTSTART;TZID=UTC:20220301T150000
DTEND;TZID=UTC:20220301T180000
DTSTAMP:20260420T132408
CREATED:20220127T140638Z
LAST-MODIFIED:20220127T140638Z
UID:2220-1646146800-1646157600@so-care.fr
SUMMARY:Formation gestion des clients difficiles
DESCRIPTION:VETERINAIRES\, ASV : GARDEZ VOTRE SANG FROID FACE AU CLIENT EXIGEANT\, STRESSÉ OU AGRESSIF ! \nCertains comportements peuvent rendre la relation client délicate\, au point que les sentiments prennent le pas sur l’objectif initial : soigner dans les meilleures conditions possibles. \nComment garder son calme et gérer son stress ? \nApprenez à décoder la relation triangulaire – propriétaire / animal / équipe soignante – pour désamorcer les comportements déstabilisants de certains clients. \nCette formation vous est proposée par Symbioveto. Après avoir énoncé les bases théoriques\, c’est notre partenaire Com’ une Impro qui animera la formation. \nCliquez ici pour vous inscrire : https://forms.gle/L3LNTn3e3qoAw6bU9
URL:https://so-care.fr/event/formation-gestion-des-clients-difficiles/
LOCATION:Pôle Agglo 21\, 58 Rue Lycette Darsonval\, Saint-Lô\, 50000\, France
CATEGORIES:Formation
ATTACH;FMTTYPE=image/png:https://so-care.fr/wp-content/uploads/2022/01/Formation-clients-difficiles-1-mars-2022.png
END:VEVENT
BEGIN:VEVENT
DTSTART;TZID=UTC:20220125T140000
DTEND;TZID=UTC:20220125T173000
DTSTAMP:20260420T132408
CREATED:20220127T135056Z
LAST-MODIFIED:20220127T135056Z
UID:2214-1643119200-1643131800@so-care.fr
SUMMARY:COPIL Canine
DESCRIPTION:Le prochain comité de pilotage pour la Rurale se déroulera : le 25 janvier 2022\, de 14h00 à 17h30 au Pôle Agglo 21 situé au 58 rue Lycette Darsonval à Saint-Lô ou en VISIO. \nNous vous proposons de commencer la réunion par un déjeuner convivial à 13h00. \nL’ordre du jour ci-dessous vous indiquera les thèmes abordés : \n\nAchats : atterrissage et changements suite aux négos\nFormations 2022\nCongrès annuel 2022\nActualisation des compétences – plateforme de référé\nDéjeuners compétences & cas cliniques
URL:https://so-care.fr/event/copil-canine-3/
LOCATION:Pôle Agglo 21\, 58 Rue Lycette Darsonval\, Saint-Lô\, 50000\, France
CATEGORIES:COPIL
ATTACH;FMTTYPE=image/png:https://so-care.fr/wp-content/uploads/2021/04/Copil_Canine.png
END:VEVENT
BEGIN:VEVENT
DTSTART;TZID=UTC:20220118T140000
DTEND;TZID=UTC:20220118T173000
DTSTAMP:20260420T132408
CREATED:20220127T134853Z
LAST-MODIFIED:20220127T134853Z
UID:2212-1642514400-1642527000@so-care.fr
SUMMARY:COPIL Rurale
DESCRIPTION:Le prochain comité de pilotage pour la Rurale se déroulera : le 18 janvier 2022\, de 14h00 à 17h30 au Pôle Agglo 21 situé au 58 rue Lycette Darsonval à Saint-Lô ou en VISIO. \nNous vous proposons de commencer la réunion par un déjeuner convivial à 13h00.
URL:https://so-care.fr/event/copil-rurale-2/
LOCATION:Pôle Agglo 21\, 58 Rue Lycette Darsonval\, Saint-Lô\, 50000\, France
CATEGORIES:COPIL
ATTACH;FMTTYPE=image/png:https://so-care.fr/wp-content/uploads/2021/06/Copil_Rurale.png
END:VEVENT
BEGIN:VEVENT
DTSTART;TZID=UTC:20220111T140000
DTEND;TZID=UTC:20220111T180000
DTSTAMP:20260420T132408
CREATED:20220127T135305Z
LAST-MODIFIED:20220127T135305Z
UID:2216-1641909600-1641924000@so-care.fr
SUMMARY:COPIL So Care
DESCRIPTION:Je vous informe que le prochain COPIL So Care aura lieu le 11 janvier 2022 – de 14h00 à 18h00 au Pôle Agglo 21 à St-Lô ou en visio. \nNous vous proposons de commencer la réunion par un déjeuner convivial à 13h00. \nA l’ordre du jour de la réunion : \n\nBilan des actions 2021\nActions étudiants vétos : bilan des GTV Junior Nantes + Rapport d’étonnement\nPlateforme de référé : remise des chèques\nRetour sur la Qualité de vie au travail\nRetour sur les entretiens individuels 4ème trimestre 2022
URL:https://so-care.fr/event/copil-so-care-2/
LOCATION:Pôle Agglo 21\, 58 Rue Lycette Darsonval\, Saint-Lô\, 50000\, France
CATEGORIES:COPIL
ATTACH;FMTTYPE=image/png:https://so-care.fr/wp-content/uploads/2021/06/Copil_SO-CARE.png
END:VEVENT
BEGIN:VEVENT
DTSTART;TZID=UTC:20211203T083000
DTEND;TZID=UTC:20211203T180000
DTSTAMP:20260420T132408
CREATED:20210907T103920Z
LAST-MODIFIED:20210907T103920Z
UID:1926-1638520200-1638554400@so-care.fr
SUMMARY:Formation Suivi de reproduction en élevage laitier - Module 2
DESCRIPTION:Module 2 : Gérer l’infertilité\, accéder à des techniques novatrices et d’actualité : insémination thérapeutique\, gestion des taureaux\, intérêts de la transplantation embryonnaire et notions de génétique \nEn partenariat avec CEVA et la SNGTV \nCette formation s’adresse à des vétérinaires déjà bien investis en suivi de reproduction. \nObjectifs pédagogiques :\nA l’issue de la formation\, vous connaîtrez :\n– Les différentes étapes de la mise en place d’un service d’insémination artificielle dans une clientèle vétérinaire\, notamment pour gérer l’infertilité\n– Vous saurez gérer le choix et l’utilisation d’un taureau dans la reproduction du troupeau \nDurée : 1 journée \nProgramme détaillé :\nMatin :\n– Insémination thérapeutique : un outil vétérinaire pour gérer l’infertilité\n– Initiation à la génétique bovine et à la génomique \nAprès-midi :\n– Accompagnement vétérinaire à l’utilisation du taureau\n– Intérêts du transfert d’embryon \nDate & lieu : En Normandie : volet 2 le 03/12 à Saint-Contest (14) \nIntervenant : Claude Joly – membre associé de la commission Vaches Laitières de la SNGTV
URL:https://so-care.fr/event/formation-suivi-de-reproduction-en-elevage-laitier-module-2/
LOCATION:Saint-Contest\, 16 Rue Martin Luther King\, Saint-Contest\, 14280\, France
CATEGORIES:Formation
ATTACH;FMTTYPE=image/png:https://so-care.fr/wp-content/uploads/2021/09/Formations-CEVA-suivi-repro-module2.png
ORGANIZER;CN="CEVA":MAILTO:maxime.desvaux@ceva.com
END:VEVENT
BEGIN:VEVENT
DTSTART;TZID=UTC:20211012T090000
DTEND;TZID=UTC:20211012T200000
DTSTAMP:20260420T132408
CREATED:20210615T122108Z
LAST-MODIFIED:20210615T122108Z
UID:1598-1634029200-1634068800@so-care.fr
SUMMARY:Journée Normande Vétérinaire & ASV
DESCRIPTION:Vous l’attendiez ? La voici ! La 19ème édition de la Journée Normande Vétérinaire / 3ème édition de la Journée Normande ASV aura lieu le Mardi 12 octobre 2021\, à l’hôtel Amirauté de Touques (14). \nDes conférences toujours plus pratico-pratiques\, des thèmes variés\, des professionnels passionnés\, un cadre convivial : voici le menu du cru 2021 ! \nNous vous proposons d’ores et déjà de découvrir le programme\, pour vous et vos ASV. \nEt pour les pré-inscriptions\, n’hésitez pas à nous contacter par mail à l’adresse suivante : secretariat.gtvnormandie@gmail.com \nA noter : Cette journée se déroulera conformément aux règles sanitaires applicables à cette date.
URL:https://so-care.fr/event/journee-normande-veterinaire-asv/
CATEGORIES:Conférence
ATTACH;FMTTYPE=image/png:https://so-care.fr/wp-content/uploads/2021/06/JNV_gtv.png
END:VEVENT
BEGIN:VEVENT
DTSTART;TZID=UTC:20211007T143000
DTEND;TZID=UTC:20211007T163000
DTSTAMP:20260420T132408
CREATED:20210830T161047Z
LAST-MODIFIED:20210830T161047Z
UID:1913-1633617000-1633624200@so-care.fr
SUMMARY:COPIL Rurale
DESCRIPTION:Le prochain comité de pilotage pour la Rurale se déroulera : le 7 octobre 2021\, de 14h30 à 16h30 au Pôle Agglo 21 situé au 58 rue Lycette Darsonval à Saint-Lô ou en VISIO.
URL:https://so-care.fr/event/copil-rurale-7-octobre-2021/
ATTACH;FMTTYPE=image/png:https://so-care.fr/wp-content/uploads/2021/06/Copil_Rurale.png
END:VEVENT
BEGIN:VEVENT
DTSTART;TZID=UTC:20211001T173000
DTEND;TZID=UTC:20211002T183000
DTSTAMP:20260420T132408
CREATED:20210421T160935Z
LAST-MODIFIED:20210611T151102Z
UID:1454-1633109400-1633199400@so-care.fr
SUMMARY:Congrès Symbioveto 2021
DESCRIPTION:Le congrès annuel Symbioveto se déroulera les 1 et 2 octobre 2021. \n 
URL:https://so-care.fr/event/congres-symbioveto-2021/
CATEGORIES:Congrès
ATTACH;FMTTYPE=image/png:https://so-care.fr/wp-content/uploads/2021/04/Congres_symbioveto.png
END:VEVENT
BEGIN:VEVENT
DTSTART;TZID=UTC:20210930T083000
DTEND;TZID=UTC:20210930T180000
DTSTAMP:20260420T132408
CREATED:20210907T103553Z
LAST-MODIFIED:20210907T103553Z
UID:1920-1632990600-1633024800@so-care.fr
SUMMARY:Formation Suivi de reproduction en élevage laitier - Module 1
DESCRIPTION:Module 1 : Faites évoluer votre relation client\, développez votre offre en reproduction bovine \nEn partenariat avec CEVA et la SNGTV \nCette formation s’adresse aux vétérinaires désirant mettre en place des suivis de reproduction ou désirant mieux structurer ceux déjà mis en place. \nObjectifs pédagogiques :\nA l’issue de la formation\, vous connaîtrez :\n– Les techniques de questionnement et de découverte des besoins des éleveurs\n– les techniques de vente d’un suivi de reproduction\n– les conditions pratiques de réalisation d’un suivi de reproduction\n– les modalités de diagnostic et de traitement des principales pathologies de la reproduction rencontrées lors des suivis \nDurée : 1 journée \nProgramme détaillé :\nMatin :\n– Connaitre les besoins et attentes des éleveurs en matière de reproduction\n– Vendre et organiser un suivi de reproduction en pratique\n– Concevoir ses offres (plusieurs niveaux de services) et sa tarification\n– Segmenter sa clientèle et trouver les cibles\n– Gérer son temps de vente (exercices en situation) \nAprès-midi :\n– Organisation pratique : préparation de la visite\, déroulement pratique (quelles vaches\, pourquoi\, avec quelles techniques)\, compte-rendu\n– Utilisation de l’échographie génitale dans le cadre du suivi de reproduction\n– Abord thérapeutique des pathologies de la reproduction (métrites\, endométrites\, anoestrus\, suboestrus\, kystes folliculaires et lutéaux\, repeat breeders) \nDate & lieu : En Normandie : volet 1 le 30/09 à Saint-Contest (14) \nIntervenant : Olivier Crenn – membres de la commission Vaches Laitières de la SNGTV \nEn savoir plus sur le module 2 : https://www2.sngtv.org/formation/suivi-de-reproduction-en-elevage-laitier-volet-2-formation-co-developpee-avec-ceva-sante-animale/
URL:https://so-care.fr/event/formation-suivi-de-reproduction-en-elevage-laitier-module-1/
LOCATION:Saint-Contest\, 16 Rue Martin Luther King\, Saint-Contest\, 14280\, France
CATEGORIES:Formation
ATTACH;FMTTYPE=image/png:https://so-care.fr/wp-content/uploads/2021/09/Formations-CEVA-suivi-repro-module1.png
ORGANIZER;CN="CEVA":MAILTO:maxime.desvaux@ceva.com
END:VEVENT
BEGIN:VEVENT
DTSTART;TZID=UTC:20210907T143000
DTEND;TZID=UTC:20210907T170000
DTSTAMP:20260420T132408
CREATED:20210421T160644Z
LAST-MODIFIED:20210426T085829Z
UID:1451-1631025000-1631034000@so-care.fr
SUMMARY:COPIL Canine
DESCRIPTION:Le prochain comité de pilotage pour la Canine se déroulera le 7 septembre 2021\, de 14h30 à 17h00 au Pôle Agglo 21 situé au 58 rue Lycette Darsonval à Saint-Lô ou en VISIO. \n 
URL:https://so-care.fr/event/copil-canine-2/
LOCATION:Pôle Agglo 21\, 58 Rue Lycette Darsonval\, Saint-Lô\, 50000\, France
CATEGORIES:COPIL
ATTACH;FMTTYPE=image/png:https://so-care.fr/wp-content/uploads/2021/04/Copil_Canine.png
END:VEVENT
BEGIN:VEVENT
DTSTART;TZID=UTC:20210907T130000
DTEND;TZID=UTC:20210907T134500
DTSTAMP:20260420T132408
CREATED:20210830T161728Z
LAST-MODIFIED:20210830T163122Z
UID:1915-1631019600-1631022300@so-care.fr
SUMMARY:Webinaire Zoétis - Spécificités du chat arthrosique et premiers retours cliniques des anticorps monoclonaux
DESCRIPTION:En partenariat avec ZOETIS\, ce webinaire vous est présenté par le Dr Guillaume Ragetly (CHV Frégis) et Dr Thierry Poitte (CapDouleur). Il aura lieu le 7 septembre 2021 à 13h. \nCliquez ici pour vous inscrire : https://us02web.zoom.us/webinar/register/WN_9tOzsn5kSxCWimGcVVrXhg
URL:https://so-care.fr/event/webinaire-zoetis-chat-arthrosique-7-septembre-2021/
CATEGORIES:Webinaire
ATTACH;FMTTYPE=image/png:https://so-care.fr/wp-content/uploads/2021/08/Webinaire-zoetis.png
END:VEVENT
BEGIN:VEVENT
DTSTART;TZID=UTC:20210903T130000
DTEND;TZID=UTC:20210903T180000
DTSTAMP:20260420T132408
CREATED:20210830T155747Z
LAST-MODIFIED:20210830T155747Z
UID:1907-1630674000-1630692000@so-care.fr
SUMMARY:COPIL So Care
DESCRIPTION:Je vous informe que le prochain COPIL So Care aura lieu le vendredi 3 septembre – de 13h00 à 18h00 au Pôle Agglo 21 à St-Lô ou en visio. \nJe vous remercie de confirmer votre participation en cliquant sur ce lien : : https://forms.gle/JYwTAXDozq8oV6kE9 \n  \nA l’ordre du jour de la réunion : \n\nRetour partiel parcours client\nProchain cycle : plan d’actions RH (fiches de poste / entretiens individuels / questionnaire qualité de vie au travail)\nCaptainVet\nCanopia – Digivet\nParage\nCommunication et recrutement
URL:https://so-care.fr/event/copil-so-care-3-septembre-2021/
CATEGORIES:COPIL
ATTACH;FMTTYPE=image/png:https://so-care.fr/wp-content/uploads/2021/06/Copil_SO-CARE.png
END:VEVENT
BEGIN:VEVENT
DTSTART;TZID=UTC:20210713T143000
DTEND;TZID=UTC:20210713T163000
DTSTAMP:20260420T132408
CREATED:20210617T082155Z
LAST-MODIFIED:20210617T082155Z
UID:1606-1626186600-1626193800@so-care.fr
SUMMARY:COPIL Rurale
DESCRIPTION:Le prochain comité de pilotage pour la Rurale se déroulera : le 13 juillet 2021\, de 14h30 à 16h30 au Pôle Agglo 21 situé au 58 rue Lycette Darsonval à Saint-Lô ou en VISIO. \nJe vous remercie de confirmer votre participation en cliquant sur ce lien : https://forms.gle/WpbSDxKzEAzwLzs4A \n  \nL’ordre du jour ci-dessous vous indiquera les thèmes abordés : \n\nSuivi des achats\nSynthèse du Groupe de travail achats horizon 2022\nSupplyVet\nCongrès Symbiovéto 2021
URL:https://so-care.fr/event/copil-rurale/
ATTACH;FMTTYPE=image/png:https://so-care.fr/wp-content/uploads/2021/06/Copil_Rurale.png
END:VEVENT
BEGIN:VEVENT
DTSTART;TZID=UTC:20210706T143000
DTEND;TZID=UTC:20210706T170000
DTSTAMP:20260420T132408
CREATED:20210617T081409Z
LAST-MODIFIED:20210617T081409Z
UID:1603-1625581800-1625590800@so-care.fr
SUMMARY:COPIL So Care
DESCRIPTION:Je vous informe que le prochain COPIL So Care aura lieu le mardi 6 juillet – de 14h30 à 17h00 au Pôle Agglo 21 à St-Lô ou en visio. \nJe vous remercie de confirmer votre participation en cliquant sur ce lien : https://forms.gle/WWiaBUge8JxTmTJ97 \n  \nA l’ordre du jour de la réunion : \n\nBilan actions So Care 1er semestre (dispositif animation Facebook\, rdv en ligne\, recrutement)\nActivités du Pôle de compétences\nParage\nMarque employeur et communication interne\nPromotion du réseau auprès des écoles
URL:https://so-care.fr/event/copil-so-care/
CATEGORIES:COPIL
ATTACH;FMTTYPE=image/png:https://so-care.fr/wp-content/uploads/2021/06/Copil_SO-CARE.png
END:VEVENT
BEGIN:VEVENT
DTSTART;TZID=UTC:20210629T140000
DTEND;TZID=UTC:20210629T170000
DTSTAMP:20260420T132408
CREATED:20210611T150742Z
LAST-MODIFIED:20210611T151142Z
UID:1543-1624975200-1624986000@so-care.fr
SUMMARY:Formation théorique et pratique copro\, Baermann et mac Kenna
DESCRIPTION:2 Sessions au choix : \nMardi 15 Juin (14H00) à la Clinique vétérinaire des Marais ; Carentan\, Route Américaine – 50500 Méautis \nMardi 29 Juin (14H00) à la Clinique vétérinaire de l’Allière ; Vire\, Rue Pierre Lebreton – 14500 Vire \n  \nAu programme de cette formation\, animée par le Dr Amélie Boutoux vétérinaire de la Clinique de la Divette à Sideville : \nTHÉORIE : \n1. Epidémiologie\, cycle\, prévalence\, les symptômes et les conséquences \n2. Les différents moyens de diagnostic \n3. Traitement : technique de coproscopie classique et montage \n  \nPRATIQUE : \n1. Montage Baermann et Mac Kenna \n2. Observation au microscope des préparations réalisées la veille \n3. Réalisation de coproscopies classiques \n  \nPour vous inscrire\, contactez Maxime Desvaux\, délégué Ceva au 06 80 91 31 04 / maxime.desvaux@ceva.com \nPossibilité de restauration sur place avant la formation sur réservation auprès de votre délégué.
URL:https://so-care.fr/event/formation-theorique-et-pratique-copro-baermann-et-mac-kenna-2/
CATEGORIES:Formation
ATTACH;FMTTYPE=image/png:https://so-care.fr/wp-content/uploads/2021/06/FormationCEVA.png
END:VEVENT
BEGIN:VEVENT
DTSTART;TZID=UTC:20210615T140000
DTEND;TZID=UTC:20210615T170000
DTSTAMP:20260420T132408
CREATED:20210611T150639Z
LAST-MODIFIED:20210611T151208Z
UID:1540-1623765600-1623776400@so-care.fr
SUMMARY:Formation théorique et pratique copro\, Baermann et mac Kenna
DESCRIPTION:2 Sessions au choix : \nMardi 15 Juin (14H00) à la Clinique vétérinaire des Marais ; Carentan\, Route Américaine – 50500 Méautis \nMardi 29 Juin (14H00) à la Clinique vétérinaire de l’Allière ; Vire\, Rue Pierre Lebreton – 14500 Vire \n  \nAu programme de cette formation\, animée par le Dr Amélie Boutoux vétérinaire de la Clinique de la Divette à Sideville : \nTHÉORIE : \n1. Epidémiologie\, cycle\, prévalence\, les symptômes et les conséquences \n2. Les différents moyens de diagnostic \n3. Traitement : technique de coproscopie classique et montage \n  \nPRATIQUE : \n1. Montage Baermann et Mac Kenna \n2. Observation au microscope des préparations réalisées la veille \n3. Réalisation de coproscopies classiques \n  \nPour vous inscrire\, contactez Maxime Desvaux\, délégué Ceva au 06 80 91 31 04 / maxime.desvaux@ceva.com \nPossibilité de restauration sur place avant la formation sur réservation auprès de votre délégué.
URL:https://so-care.fr/event/formation-theorique-et-pratique-copro-baermann-et-mac-kenna/
CATEGORIES:Formation
ATTACH;FMTTYPE=image/png:https://so-care.fr/wp-content/uploads/2021/06/FormationCEVA.png
END:VEVENT
BEGIN:VEVENT
DTSTART;TZID=UTC:20210527T130000
DTEND;TZID=UTC:20210527T140000
DTSTAMP:20260420T132408
CREATED:20210517T075814Z
LAST-MODIFIED:20210517T080720Z
UID:1489-1622120400-1622124000@so-care.fr
SUMMARY:Webinaire dermatologie CEVA
DESCRIPTION:Ceva propose un webinaire de 45 min (+15 min questions/réponses) sur les soins topiques\, animé par le Dr Hélène Dropsy le 27 mai prochain. \n  \nObjectifs pédagogiques : \n\ncomprendre l’intérêt des soins topiques en première intention lors de dermatose chez le chien et le chat ;\nconnaître les critères de choix des soins topiques selon le type de dermatose ;\ncomprendre l’application à travers des cas pratiques.\n\n  \nPour vous inscrire\, cliquez ici : https://webikeo.fr/webinar/les-soins-topiques-c-est-presque-automatique-2
URL:https://so-care.fr/event/webinaire-dermatologie-ceva/
CATEGORIES:Webinaire
ATTACH;FMTTYPE=image/png:https://so-care.fr/wp-content/uploads/2021/05/Webinaire_CEVA.png
END:VEVENT
BEGIN:VEVENT
DTSTART;TZID=UTC:20210413T143000
DTEND;TZID=UTC:20210413T170000
DTSTAMP:20260420T132408
CREATED:20210409T154408Z
LAST-MODIFIED:20210426T095402Z
UID:1404-1618324200-1618333200@so-care.fr
SUMMARY:COPIL Canine
DESCRIPTION:Le prochain comité de pilotage pour la Canine se déroulera le 13 avril 2021\, de 14h30 à 17h00 au Pôle Agglo 21 situé au 58 rue Lycette Darsonval à Saint-Lô ou en VISIO. \nL’ordre du jour ci-dessous vous indiquera les thèmes abordés : \n\nEvolution réglementaire du médicament vétérinaire\nGestion du référé\nFocus Certivet et Supplyvet\nAnimation Facebook : thématiques des contenus & jeux concours\nFormations et congrès Symbioveto 2021\n\nVoici les informations pour vous connecter en visio : \nLien à la réunion Zoom : https://zoom.us/j/98132959544?pwd=RWFrdXc0aFllTWlRV2tDOUVKbVFkQT09\nID de réunion : 981 3295 9544\nCode secret : 249616 \n 
URL:https://so-care.fr/event/copil-canine/
LOCATION:Pôle Agglo 21\, 58 Rue Lycette Darsonval\, Saint-Lô\, 50000\, France
CATEGORIES:COPIL
ATTACH;FMTTYPE=image/png:https://so-care.fr/wp-content/uploads/2021/04/Copil_Canine.png
END:VEVENT
END:VCALENDAR